BEGIN:VCALENDAR
VERSION:2.0
PRODID:-//Lakewood Forest - ECPv6.15.20//NONSGML v1.0//EN
CALSCALE:GREGORIAN
METHOD:PUBLISH
X-WR-CALNAME:Lakewood Forest
X-ORIGINAL-URL:https://lakewoodforestfund.com
X-WR-CALDESC:Events for Lakewood Forest
REFRESH-INTERVAL;VALUE=DURATION:PT1H
X-Robots-Tag:noindex
X-PUBLISHED-TTL:PT1H
BEGIN:VTIMEZONE
TZID:UTC
BEGIN:STANDARD
TZOFFSETFROM:+0000
TZOFFSETTO:+0000
TZNAME:UTC
DTSTART:20240101T000000
END:STANDARD
END:VTIMEZONE
BEGIN:VEVENT
DTSTART;TZID=UTC:20260504T190000
DTEND;TZID=UTC:20260504T200000
DTSTAMP:20260425T031534
CREATED:20251106T212950Z
LAST-MODIFIED:20251106T212950Z
UID:10000007-1777921200-1777924800@lakewoodforestfund.com
SUMMARY:Lakewood Forest Fund Board Meeting
DESCRIPTION:First Monday of every month except holidays\, then it will be the following Monday.
URL:https://lakewoodforestfund.com/event/lakewood-forest-fund-board-meeting/2026-05-04/
LOCATION:Lakewood Forest\, 12415 Louetta Road\, Cypress\, TX\, 77429\, United States
END:VEVENT
BEGIN:VEVENT
DTSTART;TZID=UTC:20260406T190000
DTEND;TZID=UTC:20260406T200000
DTSTAMP:20260425T031534
CREATED:20251106T212950Z
LAST-MODIFIED:20251106T212950Z
UID:10000006-1775502000-1775505600@lakewoodforestfund.com
SUMMARY:Lakewood Forest Fund Board Meeting
DESCRIPTION:First Monday of every month except holidays\, then it will be the following Monday.
URL:https://lakewoodforestfund.com/event/lakewood-forest-fund-board-meeting/2026-04-06/
LOCATION:Lakewood Forest\, 12415 Louetta Road\, Cypress\, TX\, 77429\, United States
END:VEVENT
BEGIN:VEVENT
DTSTART;TZID=UTC:20260223T190000
DTEND;TZID=UTC:20260302T200000
DTSTAMP:20260425T031534
CREATED:20251106T212647Z
LAST-MODIFIED:20260112T213009Z
UID:10000002-1771873200-1772481600@lakewoodforestfund.com
SUMMARY:Annual Meeting
DESCRIPTION:Lakewood Residents’ Club\n15006 Lakewood Forest Dr\nHouston Tx 77070\nSpecial Called Board Meeting (at conclusion of Annual Meeting to elect officers)
URL:https://lakewoodforestfund.com/event/annual-meeting/
LOCATION:Lakewood Forest Residents’ Club\, 15006 Lakewood Forest Dr.\, Houston\, TX\, 77070\, United States
END:VEVENT
BEGIN:VEVENT
DTSTART;TZID=UTC:20260202T190000
DTEND;TZID=UTC:20260202T200000
DTSTAMP:20260425T031534
CREATED:20251106T212950Z
LAST-MODIFIED:20251106T212950Z
UID:10000005-1770058800-1770062400@lakewoodforestfund.com
SUMMARY:Lakewood Forest Fund Board Meeting
DESCRIPTION:First Monday of every month except holidays\, then it will be the following Monday.
URL:https://lakewoodforestfund.com/event/lakewood-forest-fund-board-meeting/2026-02-02/
LOCATION:Lakewood Forest\, 12415 Louetta Road\, Cypress\, TX\, 77429\, United States
END:VEVENT
BEGIN:VEVENT
DTSTART;TZID=UTC:20260105T190000
DTEND;TZID=UTC:20260105T200000
DTSTAMP:20260425T031534
CREATED:20251106T212950Z
LAST-MODIFIED:20251106T212950Z
UID:10000004-1767639600-1767643200@lakewoodforestfund.com
SUMMARY:Lakewood Forest Fund Board Meeting
DESCRIPTION:First Monday of every month except holidays\, then it will be the following Monday.
URL:https://lakewoodforestfund.com/event/lakewood-forest-fund-board-meeting/2026-01-05/
LOCATION:Lakewood Forest\, 12415 Louetta Road\, Cypress\, TX\, 77429\, United States
END:VEVENT
BEGIN:VEVENT
DTSTART;TZID=UTC:20251201T190000
DTEND;TZID=UTC:20251201T200000
DTSTAMP:20260425T031534
CREATED:20251106T212950Z
LAST-MODIFIED:20251106T212950Z
UID:10000003-1764615600-1764619200@lakewoodforestfund.com
SUMMARY:Lakewood Forest Fund Board Meeting
DESCRIPTION:First Monday of every month except holidays\, then it will be the following Monday.
URL:https://lakewoodforestfund.com/event/lakewood-forest-fund-board-meeting/2025-12-01/
LOCATION:Lakewood Forest\, 12415 Louetta Road\, Cypress\, TX\, 77429\, United States
END:VEVENT
BEGIN:VEVENT
DTSTART;VALUE=DATE:20251017
DTEND;VALUE=DATE:20251020
DTSTAMP:20260425T031534
CREATED:20251009T132131Z
LAST-MODIFIED:20251013T180217Z
UID:10000001-1760659200-1760918399@lakewoodforestfund.com
SUMMARY:Fall Neighborhood Garage Sale
DESCRIPTION:The weather is cooling off\, and that means it’s time once again for the Lakewood Forest Community Garage Sale! \nJoin us Friday\, Saturday\, and Sunday\, October 17-19. You choose the days and hours that work best for your sale. \nShoppers from all over northwest Houston look forward to this event\, making it the perfect time to clear out your closets or attic and earn some extra holiday cash. \nThe Lakewood Forest Civic Association (LFCA) will promote the sale through email blasts\, social media\, and signage throughout the neighborhood. Residents are encouraged to put out their own bright directional signs with their address to help guide shoppers—just please avoid placing staked signs in esplanades or attaching them to stop signs. And don’t forget to remove your signs and clean up at the end of your sale to keep Lakewood Forest looking its best.
URL:https://lakewoodforestfund.com/event/fall-neighborhood-garage-sale/
LOCATION:Lakewood Forest\, 12415 Louetta Road\, Cypress\, TX\, 77429\, United States
ORGANIZER;CN="Lakewood Forest Civic Association":MAILTO:lakewoodforestcivicassociation@gmail.com
END:VEVENT
END:VCALENDAR