BEGIN:VCALENDAR
VERSION:2.0
PRODID:-//Lakewood Forest - ECPv6.15.20//NONSGML v1.0//EN
CALSCALE:GREGORIAN
METHOD:PUBLISH
X-WR-CALNAME:Lakewood Forest
X-ORIGINAL-URL:https://lakewoodforestfund.com
X-WR-CALDESC:Events for Lakewood Forest
REFRESH-INTERVAL;VALUE=DURATION:PT1H
X-Robots-Tag:noindex
X-PUBLISHED-TTL:PT1H
BEGIN:VTIMEZONE
TZID:UTC
BEGIN:STANDARD
TZOFFSETFROM:+0000
TZOFFSETTO:+0000
TZNAME:UTC
DTSTART:20250101T000000
END:STANDARD
END:VTIMEZONE
BEGIN:VEVENT
DTSTART;TZID=UTC:20261102T190000
DTEND;TZID=UTC:20261102T200000
DTSTAMP:20260424T154147
CREATED:20251106T212950Z
LAST-MODIFIED:20251106T212950Z
UID:10000013-1793646000-1793649600@lakewoodforestfund.com
SUMMARY:Lakewood Forest Fund Board Meeting
DESCRIPTION:First Monday of every month except holidays\, then it will be the following Monday.
URL:https://lakewoodforestfund.com/event/lakewood-forest-fund-board-meeting/2026-11-02/
LOCATION:Lakewood Forest\, 12415 Louetta Road\, Cypress\, TX\, 77429\, United States
END:VEVENT
BEGIN:VEVENT
DTSTART;TZID=UTC:20261207T190000
DTEND;TZID=UTC:20261207T200000
DTSTAMP:20260424T154147
CREATED:20251106T212950Z
LAST-MODIFIED:20251106T212950Z
UID:10000014-1796670000-1796673600@lakewoodforestfund.com
SUMMARY:Lakewood Forest Fund Board Meeting
DESCRIPTION:First Monday of every month except holidays\, then it will be the following Monday.
URL:https://lakewoodforestfund.com/event/lakewood-forest-fund-board-meeting/2026-12-07/
LOCATION:Lakewood Forest\, 12415 Louetta Road\, Cypress\, TX\, 77429\, United States
END:VEVENT
BEGIN:VEVENT
DTSTART;TZID=UTC:20270104T190000
DTEND;TZID=UTC:20270104T200000
DTSTAMP:20260424T154147
CREATED:20251106T212950Z
LAST-MODIFIED:20251106T212950Z
UID:10000015-1799089200-1799092800@lakewoodforestfund.com
SUMMARY:Lakewood Forest Fund Board Meeting
DESCRIPTION:First Monday of every month except holidays\, then it will be the following Monday.
URL:https://lakewoodforestfund.com/event/lakewood-forest-fund-board-meeting/2027-01-04/
LOCATION:Lakewood Forest\, 12415 Louetta Road\, Cypress\, TX\, 77429\, United States
END:VEVENT
BEGIN:VEVENT
DTSTART;TZID=UTC:20270201T190000
DTEND;TZID=UTC:20270201T200000
DTSTAMP:20260424T154147
CREATED:20251106T212950Z
LAST-MODIFIED:20251106T212950Z
UID:10000016-1801508400-1801512000@lakewoodforestfund.com
SUMMARY:Lakewood Forest Fund Board Meeting
DESCRIPTION:First Monday of every month except holidays\, then it will be the following Monday.
URL:https://lakewoodforestfund.com/event/lakewood-forest-fund-board-meeting/2027-02-01/
LOCATION:Lakewood Forest\, 12415 Louetta Road\, Cypress\, TX\, 77429\, United States
END:VEVENT
BEGIN:VEVENT
DTSTART;TZID=UTC:20270301T190000
DTEND;TZID=UTC:20270301T200000
DTSTAMP:20260424T154147
CREATED:20251106T212950Z
LAST-MODIFIED:20251106T212950Z
UID:10000017-1803927600-1803931200@lakewoodforestfund.com
SUMMARY:Lakewood Forest Fund Board Meeting
DESCRIPTION:First Monday of every month except holidays\, then it will be the following Monday.
URL:https://lakewoodforestfund.com/event/lakewood-forest-fund-board-meeting/2027-03-01/
LOCATION:Lakewood Forest\, 12415 Louetta Road\, Cypress\, TX\, 77429\, United States
END:VEVENT
BEGIN:VEVENT
DTSTART;TZID=UTC:20270405T190000
DTEND;TZID=UTC:20270405T200000
DTSTAMP:20260424T154147
CREATED:20251106T212950Z
LAST-MODIFIED:20251106T212950Z
UID:10000018-1806951600-1806955200@lakewoodforestfund.com
SUMMARY:Lakewood Forest Fund Board Meeting
DESCRIPTION:First Monday of every month except holidays\, then it will be the following Monday.
URL:https://lakewoodforestfund.com/event/lakewood-forest-fund-board-meeting/2027-04-05/
LOCATION:Lakewood Forest\, 12415 Louetta Road\, Cypress\, TX\, 77429\, United States
END:VEVENT
BEGIN:VEVENT
DTSTART;TZID=UTC:20270503T190000
DTEND;TZID=UTC:20270503T200000
DTSTAMP:20260424T154147
CREATED:20251106T212950Z
LAST-MODIFIED:20251106T212950Z
UID:10000019-1809370800-1809374400@lakewoodforestfund.com
SUMMARY:Lakewood Forest Fund Board Meeting
DESCRIPTION:First Monday of every month except holidays\, then it will be the following Monday.
URL:https://lakewoodforestfund.com/event/lakewood-forest-fund-board-meeting/2027-05-03/
LOCATION:Lakewood Forest\, 12415 Louetta Road\, Cypress\, TX\, 77429\, United States
END:VEVENT
BEGIN:VEVENT
DTSTART;TZID=UTC:20270607T190000
DTEND;TZID=UTC:20270607T200000
DTSTAMP:20260424T154147
CREATED:20251106T212950Z
LAST-MODIFIED:20251106T212950Z
UID:10000020-1812394800-1812398400@lakewoodforestfund.com
SUMMARY:Lakewood Forest Fund Board Meeting
DESCRIPTION:First Monday of every month except holidays\, then it will be the following Monday.
URL:https://lakewoodforestfund.com/event/lakewood-forest-fund-board-meeting/2027-06-07/
LOCATION:Lakewood Forest\, 12415 Louetta Road\, Cypress\, TX\, 77429\, United States
END:VEVENT
BEGIN:VEVENT
DTSTART;TZID=UTC:20270705T190000
DTEND;TZID=UTC:20270705T200000
DTSTAMP:20260424T154147
CREATED:20251106T212950Z
LAST-MODIFIED:20251106T212950Z
UID:10000021-1814814000-1814817600@lakewoodforestfund.com
SUMMARY:Lakewood Forest Fund Board Meeting
DESCRIPTION:First Monday of every month except holidays\, then it will be the following Monday.
URL:https://lakewoodforestfund.com/event/lakewood-forest-fund-board-meeting/2027-07-05/
LOCATION:Lakewood Forest\, 12415 Louetta Road\, Cypress\, TX\, 77429\, United States
END:VEVENT
BEGIN:VEVENT
DTSTART;TZID=UTC:20270802T190000
DTEND;TZID=UTC:20270802T200000
DTSTAMP:20260424T154147
CREATED:20251106T212950Z
LAST-MODIFIED:20251106T212950Z
UID:10000022-1817233200-1817236800@lakewoodforestfund.com
SUMMARY:Lakewood Forest Fund Board Meeting
DESCRIPTION:First Monday of every month except holidays\, then it will be the following Monday.
URL:https://lakewoodforestfund.com/event/lakewood-forest-fund-board-meeting/2027-08-02/
LOCATION:Lakewood Forest\, 12415 Louetta Road\, Cypress\, TX\, 77429\, United States
END:VEVENT
BEGIN:VEVENT
DTSTART;TZID=UTC:20270906T190000
DTEND;TZID=UTC:20270906T200000
DTSTAMP:20260424T154147
CREATED:20251106T212950Z
LAST-MODIFIED:20251106T212950Z
UID:10000023-1820257200-1820260800@lakewoodforestfund.com
SUMMARY:Lakewood Forest Fund Board Meeting
DESCRIPTION:First Monday of every month except holidays\, then it will be the following Monday.
URL:https://lakewoodforestfund.com/event/lakewood-forest-fund-board-meeting/2027-09-06/
LOCATION:Lakewood Forest\, 12415 Louetta Road\, Cypress\, TX\, 77429\, United States
END:VEVENT
BEGIN:VEVENT
DTSTART;TZID=UTC:20271004T190000
DTEND;TZID=UTC:20271004T200000
DTSTAMP:20260424T154147
CREATED:20251106T212950Z
LAST-MODIFIED:20251106T212950Z
UID:10000024-1822676400-1822680000@lakewoodforestfund.com
SUMMARY:Lakewood Forest Fund Board Meeting
DESCRIPTION:First Monday of every month except holidays\, then it will be the following Monday.
URL:https://lakewoodforestfund.com/event/lakewood-forest-fund-board-meeting/2027-10-04/
LOCATION:Lakewood Forest\, 12415 Louetta Road\, Cypress\, TX\, 77429\, United States
END:VEVENT
BEGIN:VEVENT
DTSTART;TZID=UTC:20271101T190000
DTEND;TZID=UTC:20271101T200000
DTSTAMP:20260424T154147
CREATED:20251106T212950Z
LAST-MODIFIED:20251106T212950Z
UID:10000025-1825095600-1825099200@lakewoodforestfund.com
SUMMARY:Lakewood Forest Fund Board Meeting
DESCRIPTION:First Monday of every month except holidays\, then it will be the following Monday.
URL:https://lakewoodforestfund.com/event/lakewood-forest-fund-board-meeting/2027-11-01/
LOCATION:Lakewood Forest\, 12415 Louetta Road\, Cypress\, TX\, 77429\, United States
END:VEVENT
BEGIN:VEVENT
DTSTART;TZID=UTC:20271206T190000
DTEND;TZID=UTC:20271206T200000
DTSTAMP:20260424T154147
CREATED:20251106T212950Z
LAST-MODIFIED:20251106T212950Z
UID:10000026-1828119600-1828123200@lakewoodforestfund.com
SUMMARY:Lakewood Forest Fund Board Meeting
DESCRIPTION:First Monday of every month except holidays\, then it will be the following Monday.
URL:https://lakewoodforestfund.com/event/lakewood-forest-fund-board-meeting/2027-12-06/
LOCATION:Lakewood Forest\, 12415 Louetta Road\, Cypress\, TX\, 77429\, United States
END:VEVENT
BEGIN:VEVENT
DTSTART;TZID=UTC:20280103T190000
DTEND;TZID=UTC:20280103T200000
DTSTAMP:20260424T154147
CREATED:20251106T212950Z
LAST-MODIFIED:20251106T212950Z
UID:10000027-1830538800-1830542400@lakewoodforestfund.com
SUMMARY:Lakewood Forest Fund Board Meeting
DESCRIPTION:First Monday of every month except holidays\, then it will be the following Monday.
URL:https://lakewoodforestfund.com/event/lakewood-forest-fund-board-meeting/2028-01-03/
LOCATION:Lakewood Forest\, 12415 Louetta Road\, Cypress\, TX\, 77429\, United States
END:VEVENT
BEGIN:VEVENT
DTSTART;TZID=UTC:20280207T190000
DTEND;TZID=UTC:20280207T200000
DTSTAMP:20260424T154147
CREATED:20251106T212950Z
LAST-MODIFIED:20251106T212950Z
UID:10000028-1833562800-1833566400@lakewoodforestfund.com
SUMMARY:Lakewood Forest Fund Board Meeting
DESCRIPTION:First Monday of every month except holidays\, then it will be the following Monday.
URL:https://lakewoodforestfund.com/event/lakewood-forest-fund-board-meeting/2028-02-07/
LOCATION:Lakewood Forest\, 12415 Louetta Road\, Cypress\, TX\, 77429\, United States
END:VEVENT
BEGIN:VEVENT
DTSTART;TZID=UTC:20280306T190000
DTEND;TZID=UTC:20280306T200000
DTSTAMP:20260424T154147
CREATED:20251106T212950Z
LAST-MODIFIED:20251106T212950Z
UID:10000029-1835982000-1835985600@lakewoodforestfund.com
SUMMARY:Lakewood Forest Fund Board Meeting
DESCRIPTION:First Monday of every month except holidays\, then it will be the following Monday.
URL:https://lakewoodforestfund.com/event/lakewood-forest-fund-board-meeting/2028-03-06/
LOCATION:Lakewood Forest\, 12415 Louetta Road\, Cypress\, TX\, 77429\, United States
END:VEVENT
BEGIN:VEVENT
DTSTART;TZID=UTC:20280403T190000
DTEND;TZID=UTC:20280403T200000
DTSTAMP:20260424T154147
CREATED:20251106T212950Z
LAST-MODIFIED:20251106T212950Z
UID:10000030-1838401200-1838404800@lakewoodforestfund.com
SUMMARY:Lakewood Forest Fund Board Meeting
DESCRIPTION:First Monday of every month except holidays\, then it will be the following Monday.
URL:https://lakewoodforestfund.com/event/lakewood-forest-fund-board-meeting/2028-04-03/
LOCATION:Lakewood Forest\, 12415 Louetta Road\, Cypress\, TX\, 77429\, United States
END:VEVENT
BEGIN:VEVENT
DTSTART;TZID=UTC:20280501T190000
DTEND;TZID=UTC:20280501T200000
DTSTAMP:20260424T154147
CREATED:20251106T212950Z
LAST-MODIFIED:20251106T212950Z
UID:10000031-1840820400-1840824000@lakewoodforestfund.com
SUMMARY:Lakewood Forest Fund Board Meeting
DESCRIPTION:First Monday of every month except holidays\, then it will be the following Monday.
URL:https://lakewoodforestfund.com/event/lakewood-forest-fund-board-meeting/2028-05-01/
LOCATION:Lakewood Forest\, 12415 Louetta Road\, Cypress\, TX\, 77429\, United States
END:VEVENT
BEGIN:VEVENT
DTSTART;TZID=UTC:20280605T190000
DTEND;TZID=UTC:20280605T200000
DTSTAMP:20260424T154147
CREATED:20251106T212950Z
LAST-MODIFIED:20251106T212950Z
UID:10000032-1843844400-1843848000@lakewoodforestfund.com
SUMMARY:Lakewood Forest Fund Board Meeting
DESCRIPTION:First Monday of every month except holidays\, then it will be the following Monday.
URL:https://lakewoodforestfund.com/event/lakewood-forest-fund-board-meeting/2028-06-05/
LOCATION:Lakewood Forest\, 12415 Louetta Road\, Cypress\, TX\, 77429\, United States
END:VEVENT
BEGIN:VEVENT
DTSTART;TZID=UTC:20280703T190000
DTEND;TZID=UTC:20280703T200000
DTSTAMP:20260424T154147
CREATED:20251106T212950Z
LAST-MODIFIED:20251106T212950Z
UID:10000033-1846263600-1846267200@lakewoodforestfund.com
SUMMARY:Lakewood Forest Fund Board Meeting
DESCRIPTION:First Monday of every month except holidays\, then it will be the following Monday.
URL:https://lakewoodforestfund.com/event/lakewood-forest-fund-board-meeting/2028-07-03/
LOCATION:Lakewood Forest\, 12415 Louetta Road\, Cypress\, TX\, 77429\, United States
END:VEVENT
BEGIN:VEVENT
DTSTART;TZID=UTC:20280807T190000
DTEND;TZID=UTC:20280807T200000
DTSTAMP:20260424T154147
CREATED:20251106T212950Z
LAST-MODIFIED:20251106T212950Z
UID:10000034-1849287600-1849291200@lakewoodforestfund.com
SUMMARY:Lakewood Forest Fund Board Meeting
DESCRIPTION:First Monday of every month except holidays\, then it will be the following Monday.
URL:https://lakewoodforestfund.com/event/lakewood-forest-fund-board-meeting/2028-08-07/
LOCATION:Lakewood Forest\, 12415 Louetta Road\, Cypress\, TX\, 77429\, United States
END:VEVENT
BEGIN:VEVENT
DTSTART;TZID=UTC:20280904T190000
DTEND;TZID=UTC:20280904T200000
DTSTAMP:20260424T154147
CREATED:20251106T212950Z
LAST-MODIFIED:20251106T212950Z
UID:10000035-1851706800-1851710400@lakewoodforestfund.com
SUMMARY:Lakewood Forest Fund Board Meeting
DESCRIPTION:First Monday of every month except holidays\, then it will be the following Monday.
URL:https://lakewoodforestfund.com/event/lakewood-forest-fund-board-meeting/2028-09-04/
LOCATION:Lakewood Forest\, 12415 Louetta Road\, Cypress\, TX\, 77429\, United States
END:VEVENT
BEGIN:VEVENT
DTSTART;TZID=UTC:20281002T190000
DTEND;TZID=UTC:20281002T200000
DTSTAMP:20260424T154147
CREATED:20251106T212950Z
LAST-MODIFIED:20251106T212950Z
UID:10000036-1854126000-1854129600@lakewoodforestfund.com
SUMMARY:Lakewood Forest Fund Board Meeting
DESCRIPTION:First Monday of every month except holidays\, then it will be the following Monday.
URL:https://lakewoodforestfund.com/event/lakewood-forest-fund-board-meeting/2028-10-02/
LOCATION:Lakewood Forest\, 12415 Louetta Road\, Cypress\, TX\, 77429\, United States
END:VEVENT
BEGIN:VEVENT
DTSTART;TZID=UTC:20281106T190000
DTEND;TZID=UTC:20281106T200000
DTSTAMP:20260424T154147
CREATED:20251106T212950Z
LAST-MODIFIED:20251106T212950Z
UID:10000037-1857150000-1857153600@lakewoodforestfund.com
SUMMARY:Lakewood Forest Fund Board Meeting
DESCRIPTION:First Monday of every month except holidays\, then it will be the following Monday.
URL:https://lakewoodforestfund.com/event/lakewood-forest-fund-board-meeting/2028-11-06/
LOCATION:Lakewood Forest\, 12415 Louetta Road\, Cypress\, TX\, 77429\, United States
END:VEVENT
BEGIN:VEVENT
DTSTART;TZID=UTC:20281204T190000
DTEND;TZID=UTC:20281204T200000
DTSTAMP:20260424T154147
CREATED:20251106T212950Z
LAST-MODIFIED:20251106T212950Z
UID:10000038-1859569200-1859572800@lakewoodforestfund.com
SUMMARY:Lakewood Forest Fund Board Meeting
DESCRIPTION:First Monday of every month except holidays\, then it will be the following Monday.
URL:https://lakewoodforestfund.com/event/lakewood-forest-fund-board-meeting/2028-12-04/
LOCATION:Lakewood Forest\, 12415 Louetta Road\, Cypress\, TX\, 77429\, United States
END:VEVENT
BEGIN:VEVENT
DTSTART;TZID=UTC:20290101T190000
DTEND;TZID=UTC:20290101T200000
DTSTAMP:20260424T154147
CREATED:20251106T212950Z
LAST-MODIFIED:20251106T212950Z
UID:10000039-1861988400-1861992000@lakewoodforestfund.com
SUMMARY:Lakewood Forest Fund Board Meeting
DESCRIPTION:First Monday of every month except holidays\, then it will be the following Monday.
URL:https://lakewoodforestfund.com/event/lakewood-forest-fund-board-meeting/2029-01-01/
LOCATION:Lakewood Forest\, 12415 Louetta Road\, Cypress\, TX\, 77429\, United States
END:VEVENT
BEGIN:VEVENT
DTSTART;TZID=UTC:20290205T190000
DTEND;TZID=UTC:20290205T200000
DTSTAMP:20260424T154147
CREATED:20251106T212950Z
LAST-MODIFIED:20251106T212950Z
UID:10000040-1865012400-1865016000@lakewoodforestfund.com
SUMMARY:Lakewood Forest Fund Board Meeting
DESCRIPTION:First Monday of every month except holidays\, then it will be the following Monday.
URL:https://lakewoodforestfund.com/event/lakewood-forest-fund-board-meeting/2029-02-05/
LOCATION:Lakewood Forest\, 12415 Louetta Road\, Cypress\, TX\, 77429\, United States
END:VEVENT
BEGIN:VEVENT
DTSTART;TZID=UTC:20290305T190000
DTEND;TZID=UTC:20290305T200000
DTSTAMP:20260424T154147
CREATED:20251106T212950Z
LAST-MODIFIED:20251106T212950Z
UID:10000041-1867431600-1867435200@lakewoodforestfund.com
SUMMARY:Lakewood Forest Fund Board Meeting
DESCRIPTION:First Monday of every month except holidays\, then it will be the following Monday.
URL:https://lakewoodforestfund.com/event/lakewood-forest-fund-board-meeting/2029-03-05/
LOCATION:Lakewood Forest\, 12415 Louetta Road\, Cypress\, TX\, 77429\, United States
END:VEVENT
BEGIN:VEVENT
DTSTART;TZID=UTC:20290402T190000
DTEND;TZID=UTC:20290402T200000
DTSTAMP:20260424T154147
CREATED:20251106T212950Z
LAST-MODIFIED:20251106T212950Z
UID:10000042-1869850800-1869854400@lakewoodforestfund.com
SUMMARY:Lakewood Forest Fund Board Meeting
DESCRIPTION:First Monday of every month except holidays\, then it will be the following Monday.
URL:https://lakewoodforestfund.com/event/lakewood-forest-fund-board-meeting/2029-04-02/
LOCATION:Lakewood Forest\, 12415 Louetta Road\, Cypress\, TX\, 77429\, United States
END:VEVENT
END:VCALENDAR