BEGIN:VCALENDAR
VERSION:2.0
PRODID:-//Lakewood Forest - ECPv6.15.20//NONSGML v1.0//EN
CALSCALE:GREGORIAN
METHOD:PUBLISH
X-ORIGINAL-URL:https://lakewoodforestfund.com
X-WR-CALDESC:Events for Lakewood Forest
REFRESH-INTERVAL;VALUE=DURATION:PT1H
X-Robots-Tag:noindex
X-PUBLISHED-TTL:PT1H
BEGIN:VTIMEZONE
TZID:UTC
BEGIN:STANDARD
TZOFFSETFROM:+0000
TZOFFSETTO:+0000
TZNAME:UTC
DTSTART:20280101T000000
END:STANDARD
END:VTIMEZONE
BEGIN:VEVENT
DTSTART;TZID=UTC:20291105T190000
DTEND;TZID=UTC:20291105T200000
DTSTAMP:20260425T010520
CREATED:20251106T212950Z
LAST-MODIFIED:20251106T212950Z
UID:10000049-1888599600-1888603200@lakewoodforestfund.com
SUMMARY:Lakewood Forest Fund Board Meeting
DESCRIPTION:First Monday of every month except holidays\, then it will be the following Monday.
URL:https://lakewoodforestfund.com/event/lakewood-forest-fund-board-meeting/2029-11-05/
LOCATION:Lakewood Forest\, 12415 Louetta Road\, Cypress\, TX\, 77429\, United States
END:VEVENT
BEGIN:VEVENT
DTSTART;TZID=UTC:20291203T190000
DTEND;TZID=UTC:20291203T200000
DTSTAMP:20260425T010520
CREATED:20251106T212950Z
LAST-MODIFIED:20251106T212950Z
UID:10000050-1891018800-1891022400@lakewoodforestfund.com
SUMMARY:Lakewood Forest Fund Board Meeting
DESCRIPTION:First Monday of every month except holidays\, then it will be the following Monday.
URL:https://lakewoodforestfund.com/event/lakewood-forest-fund-board-meeting/2029-12-03/
LOCATION:Lakewood Forest\, 12415 Louetta Road\, Cypress\, TX\, 77429\, United States
END:VEVENT
BEGIN:VEVENT
DTSTART;TZID=UTC:20300107T190000
DTEND;TZID=UTC:20300107T200000
DTSTAMP:20260425T010520
CREATED:20251106T212950Z
LAST-MODIFIED:20251106T212950Z
UID:10000051-1894042800-1894046400@lakewoodforestfund.com
SUMMARY:Lakewood Forest Fund Board Meeting
DESCRIPTION:First Monday of every month except holidays\, then it will be the following Monday.
URL:https://lakewoodforestfund.com/event/lakewood-forest-fund-board-meeting/2030-01-07/
LOCATION:Lakewood Forest\, 12415 Louetta Road\, Cypress\, TX\, 77429\, United States
END:VEVENT
BEGIN:VEVENT
DTSTART;TZID=UTC:20300204T190000
DTEND;TZID=UTC:20300204T200000
DTSTAMP:20260425T010520
CREATED:20251106T212950Z
LAST-MODIFIED:20251106T212950Z
UID:10000052-1896462000-1896465600@lakewoodforestfund.com
SUMMARY:Lakewood Forest Fund Board Meeting
DESCRIPTION:First Monday of every month except holidays\, then it will be the following Monday.
URL:https://lakewoodforestfund.com/event/lakewood-forest-fund-board-meeting/2030-02-04/
LOCATION:Lakewood Forest\, 12415 Louetta Road\, Cypress\, TX\, 77429\, United States
END:VEVENT
BEGIN:VEVENT
DTSTART;TZID=UTC:20300304T190000
DTEND;TZID=UTC:20300304T200000
DTSTAMP:20260425T010520
CREATED:20251106T212950Z
LAST-MODIFIED:20251106T212950Z
UID:10000053-1898881200-1898884800@lakewoodforestfund.com
SUMMARY:Lakewood Forest Fund Board Meeting
DESCRIPTION:First Monday of every month except holidays\, then it will be the following Monday.
URL:https://lakewoodforestfund.com/event/lakewood-forest-fund-board-meeting/2030-03-04/
LOCATION:Lakewood Forest\, 12415 Louetta Road\, Cypress\, TX\, 77429\, United States
END:VEVENT
BEGIN:VEVENT
DTSTART;TZID=UTC:20300401T190000
DTEND;TZID=UTC:20300401T200000
DTSTAMP:20260425T010520
CREATED:20251106T212950Z
LAST-MODIFIED:20251106T212950Z
UID:10000054-1901300400-1901304000@lakewoodforestfund.com
SUMMARY:Lakewood Forest Fund Board Meeting
DESCRIPTION:First Monday of every month except holidays\, then it will be the following Monday.
URL:https://lakewoodforestfund.com/event/lakewood-forest-fund-board-meeting/2030-04-01/
LOCATION:Lakewood Forest\, 12415 Louetta Road\, Cypress\, TX\, 77429\, United States
END:VEVENT
BEGIN:VEVENT
DTSTART;TZID=UTC:20300506T190000
DTEND;TZID=UTC:20300506T200000
DTSTAMP:20260425T010520
CREATED:20251106T212950Z
LAST-MODIFIED:20251106T212950Z
UID:10000055-1904324400-1904328000@lakewoodforestfund.com
SUMMARY:Lakewood Forest Fund Board Meeting
DESCRIPTION:First Monday of every month except holidays\, then it will be the following Monday.
URL:https://lakewoodforestfund.com/event/lakewood-forest-fund-board-meeting/2030-05-06/
LOCATION:Lakewood Forest\, 12415 Louetta Road\, Cypress\, TX\, 77429\, United States
END:VEVENT
BEGIN:VEVENT
DTSTART;TZID=UTC:20300603T190000
DTEND;TZID=UTC:20300603T200000
DTSTAMP:20260425T010520
CREATED:20251106T212950Z
LAST-MODIFIED:20251106T212950Z
UID:10000056-1906743600-1906747200@lakewoodforestfund.com
SUMMARY:Lakewood Forest Fund Board Meeting
DESCRIPTION:First Monday of every month except holidays\, then it will be the following Monday.
URL:https://lakewoodforestfund.com/event/lakewood-forest-fund-board-meeting/2030-06-03/
LOCATION:Lakewood Forest\, 12415 Louetta Road\, Cypress\, TX\, 77429\, United States
END:VEVENT
BEGIN:VEVENT
DTSTART;TZID=UTC:20300701T190000
DTEND;TZID=UTC:20300701T200000
DTSTAMP:20260425T010520
CREATED:20251106T212950Z
LAST-MODIFIED:20251106T212950Z
UID:10000057-1909162800-1909166400@lakewoodforestfund.com
SUMMARY:Lakewood Forest Fund Board Meeting
DESCRIPTION:First Monday of every month except holidays\, then it will be the following Monday.
URL:https://lakewoodforestfund.com/event/lakewood-forest-fund-board-meeting/2030-07-01/
LOCATION:Lakewood Forest\, 12415 Louetta Road\, Cypress\, TX\, 77429\, United States
END:VEVENT
BEGIN:VEVENT
DTSTART;TZID=UTC:20300805T190000
DTEND;TZID=UTC:20300805T200000
DTSTAMP:20260425T010520
CREATED:20251106T212950Z
LAST-MODIFIED:20251106T212950Z
UID:10000058-1912186800-1912190400@lakewoodforestfund.com
SUMMARY:Lakewood Forest Fund Board Meeting
DESCRIPTION:First Monday of every month except holidays\, then it will be the following Monday.
URL:https://lakewoodforestfund.com/event/lakewood-forest-fund-board-meeting/2030-08-05/
LOCATION:Lakewood Forest\, 12415 Louetta Road\, Cypress\, TX\, 77429\, United States
END:VEVENT
BEGIN:VEVENT
DTSTART;TZID=UTC:20300902T190000
DTEND;TZID=UTC:20300902T200000
DTSTAMP:20260425T010520
CREATED:20251106T212950Z
LAST-MODIFIED:20251106T212950Z
UID:10000059-1914606000-1914609600@lakewoodforestfund.com
SUMMARY:Lakewood Forest Fund Board Meeting
DESCRIPTION:First Monday of every month except holidays\, then it will be the following Monday.
URL:https://lakewoodforestfund.com/event/lakewood-forest-fund-board-meeting/2030-09-02/
LOCATION:Lakewood Forest\, 12415 Louetta Road\, Cypress\, TX\, 77429\, United States
END:VEVENT
BEGIN:VEVENT
DTSTART;TZID=UTC:20301007T190000
DTEND;TZID=UTC:20301007T200000
DTSTAMP:20260425T010520
CREATED:20251106T212950Z
LAST-MODIFIED:20251106T212950Z
UID:10000060-1917630000-1917633600@lakewoodforestfund.com
SUMMARY:Lakewood Forest Fund Board Meeting
DESCRIPTION:First Monday of every month except holidays\, then it will be the following Monday.
URL:https://lakewoodforestfund.com/event/lakewood-forest-fund-board-meeting/2030-10-07/
LOCATION:Lakewood Forest\, 12415 Louetta Road\, Cypress\, TX\, 77429\, United States
END:VEVENT
BEGIN:VEVENT
DTSTART;TZID=UTC:20301104T190000
DTEND;TZID=UTC:20301104T200000
DTSTAMP:20260425T010520
CREATED:20251106T212950Z
LAST-MODIFIED:20251106T212950Z
UID:10000061-1920049200-1920052800@lakewoodforestfund.com
SUMMARY:Lakewood Forest Fund Board Meeting
DESCRIPTION:First Monday of every month except holidays\, then it will be the following Monday.
URL:https://lakewoodforestfund.com/event/lakewood-forest-fund-board-meeting/2030-11-04/
LOCATION:Lakewood Forest\, 12415 Louetta Road\, Cypress\, TX\, 77429\, United States
END:VEVENT
END:VCALENDAR